BEGIN:VCALENDAR
VERSION:2.0
PRODID:-//SCOV Clay Club - ECPv6.15.17//NONSGML v1.0//EN
CALSCALE:GREGORIAN
METHOD:PUBLISH
X-ORIGINAL-URL:https://scovclayclub.com
X-WR-CALDESC:Events for SCOV Clay Club
REFRESH-INTERVAL;VALUE=DURATION:PT1H
X-Robots-Tag:noindex
X-PUBLISHED-TTL:PT1H
BEGIN:VTIMEZONE
TZID:America/Phoenix
BEGIN:STANDARD
TZOFFSETFROM:-0700
TZOFFSETTO:-0700
TZNAME:MST
DTSTART:20250101T000000
END:STANDARD
END:VTIMEZONE
BEGIN:VEVENT
DTSTART;TZID=America/Phoenix:20260305T130000
DTEND;TZID=America/Phoenix:20260305T140000
DTSTAMP:20260423T115440
CREATED:20260123T205220Z
LAST-MODIFIED:20260123T205220Z
UID:1879-1772715600-1772719200@scovclayclub.com
SUMMARY:Monthly Clay Club Meeting
DESCRIPTION:Kiva Room
URL:https://scovclayclub.com/event/monthly-clay-club-meeting-6/
END:VEVENT
END:VCALENDAR