BEGIN:VCALENDAR
VERSION:2.0
PRODID:-//SCOV Clay Club - ECPv6.15.17//NONSGML v1.0//EN
CALSCALE:GREGORIAN
METHOD:PUBLISH
X-WR-CALNAME:SCOV Clay Club
X-ORIGINAL-URL:https://scovclayclub.com
X-WR-CALDESC:Events for SCOV Clay Club
REFRESH-INTERVAL;VALUE=DURATION:PT1H
X-Robots-Tag:noindex
X-PUBLISHED-TTL:PT1H
BEGIN:VTIMEZONE
TZID:America/Phoenix
BEGIN:STANDARD
TZOFFSETFROM:-0700
TZOFFSETTO:-0700
TZNAME:MST
DTSTART:20250101T000000
END:STANDARD
END:VTIMEZONE
BEGIN:VEVENT
DTSTART;TZID=America/Phoenix:20260307T090000
DTEND;TZID=America/Phoenix:20260307T123000
DTSTAMP:20260423T102629
CREATED:20260227T164515Z
LAST-MODIFIED:20260227T164515Z
UID:1992-1772874000-1772886600@scovclayclub.com
SUMMARY:Landscape Panel Class
DESCRIPTION:Class limited to 6 participants\, no observers.  Please see sign up sheet in the BOAK with prerequisites and materials to prepare before class.
URL:https://scovclayclub.com/event/landscape-panel-class/
LOCATION:Clay Studio
END:VEVENT
BEGIN:VEVENT
DTSTART;TZID=America/Phoenix:20260307T100000
DTEND;TZID=America/Phoenix:20260307T140000
DTSTAMP:20260423T102629
CREATED:20260127T065520Z
LAST-MODIFIED:20260127T065520Z
UID:1930-1772877600-1772892000@scovclayclub.com
SUMMARY:ICS Empty Bowls Fundraiser
DESCRIPTION:Held at Tucson Chinese Cultural Center\, $40.00 donation  \nadditional information will be posted in the Studio
URL:https://scovclayclub.com/event/ics-empty-bowls-fundraiser/
END:VEVENT
END:VCALENDAR