BEGIN:VCALENDAR
VERSION:2.0
PRODID:-//SCOV Clay Club - ECPv6.15.17//NONSGML v1.0//EN
CALSCALE:GREGORIAN
METHOD:PUBLISH
X-ORIGINAL-URL:https://scovclayclub.com
X-WR-CALDESC:Events for SCOV Clay Club
REFRESH-INTERVAL;VALUE=DURATION:PT1H
X-Robots-Tag:noindex
X-PUBLISHED-TTL:PT1H
BEGIN:VTIMEZONE
TZID:America/Phoenix
BEGIN:STANDARD
TZOFFSETFROM:-0700
TZOFFSETTO:-0700
TZNAME:MST
DTSTART:20250101T000000
END:STANDARD
END:VTIMEZONE
BEGIN:VEVENT
DTSTART;TZID=America/Phoenix:20260309T090000
DTEND;TZID=America/Phoenix:20260309T120000
DTSTAMP:20260423T102858
CREATED:20260123T205011Z
LAST-MODIFIED:20260123T205011Z
UID:1877-1773046800-1773057600@scovclayclub.com
SUMMARY:Clay Orientation
DESCRIPTION:Studio closed from 8:45 for set up
URL:https://scovclayclub.com/event/clay-orientation-13/
END:VEVENT
END:VCALENDAR