BEGIN:VCALENDAR
VERSION:2.0
PRODID:-//SCOV Clay Club - ECPv6.15.17//NONSGML v1.0//EN
CALSCALE:GREGORIAN
METHOD:PUBLISH
X-ORIGINAL-URL:https://scovclayclub.com
X-WR-CALDESC:Events for SCOV Clay Club
REFRESH-INTERVAL;VALUE=DURATION:PT1H
X-Robots-Tag:noindex
X-PUBLISHED-TTL:PT1H
BEGIN:VTIMEZONE
TZID:America/Phoenix
BEGIN:STANDARD
TZOFFSETFROM:-0700
TZOFFSETTO:-0700
TZNAME:MST
DTSTART:20250101T000000
END:STANDARD
END:VTIMEZONE
BEGIN:VEVENT
DTSTART;TZID=America/Phoenix:20260317T110000
DTEND;TZID=America/Phoenix:20260317T130000
DTSTAMP:20260423T163152
CREATED:20260312T223123Z
LAST-MODIFIED:20260312T223123Z
UID:2009-1773745200-1773752400@scovclayclub.com
SUMMARY:Artisan Center Open House\, STUDIOS BOTH OPEN
DESCRIPTION:This is an open house to showcase our Studios\, talk about the studios that will move to Copper Center and the renovations to the ones that remain in our Artisan Center.  OUR STUDIO IS OPEN FOR WORK! PLEASE LET VISITORS SEE US IN ACTION!  
URL:https://scovclayclub.com/event/artisan-center-open-house-studios-both-open/
LOCATION:Clay Studio
END:VEVENT
BEGIN:VEVENT
DTSTART;TZID=America/Phoenix:20260318T130000
DTEND;TZID=America/Phoenix:20260318T140000
DTSTAMP:20260423T163152
CREATED:20260123T205336Z
LAST-MODIFIED:20260123T205336Z
UID:1881-1773838800-1773842400@scovclayclub.com
SUMMARY:Monthly Cleaning & Social Hour
DESCRIPTION:Studio closed during cleaning
URL:https://scovclayclub.com/event/monthly-cleaning-social-hour-2/
END:VEVENT
BEGIN:VEVENT
DTSTART;TZID=America/Phoenix:20260324T130000
DTEND;TZID=America/Phoenix:20260324T143000
DTSTAMP:20260423T163152
CREATED:20260219T203756Z
LAST-MODIFIED:20260219T203756Z
UID:1972-1774357200-1774362600@scovclayclub.com
SUMMARY:Pressed Plates and Bowls\, Demo
DESCRIPTION:This is a demo class. Please see sign up in the BOAK in the studio.
URL:https://scovclayclub.com/event/pressed-plates-and-bowls-demo/
LOCATION:Clay Studio
END:VEVENT
BEGIN:VEVENT
DTSTART;TZID=America/Phoenix:20260324T130000
DTEND;TZID=America/Phoenix:20260324T150000
DTSTAMP:20260423T163152
CREATED:20260214T170301Z
LAST-MODIFIED:20260214T170301Z
UID:1967-1774357200-1774364400@scovclayclub.com
SUMMARY:Underglaze & Transfer Techniques class
DESCRIPTION:
URL:https://scovclayclub.com/event/underglaze-transfer-techniques-class/
LOCATION:Glaze Studio
END:VEVENT
BEGIN:VEVENT
DTSTART;TZID=America/Phoenix:20260331T090000
DTEND;TZID=America/Phoenix:20260331T120000
DTSTAMP:20260423T163152
CREATED:20260125T002737Z
LAST-MODIFIED:20260125T002737Z
UID:1900-1774947600-1774958400@scovclayclub.com
SUMMARY:Glaze Orientation
DESCRIPTION:Studio closed from 8:45 for set up
URL:https://scovclayclub.com/event/glaze-orientation-17/
END:VEVENT
BEGIN:VEVENT
DTSTART;TZID=America/Phoenix:20260401T150000
DTEND;TZID=America/Phoenix:20260401T160000
DTSTAMP:20260423T163152
CREATED:20260303T201106Z
LAST-MODIFIED:20260303T201106Z
UID:2003-1775055600-1775059200@scovclayclub.com
SUMMARY:Bubble Pattern Glaze Class
DESCRIPTION:Learn how to make bubble patterns in glaze on Bisque fired ware.  This is an Intermediate skill level class\, requires some experience in application of glazes.  Bring a Bisque fired piece ready to glaze for this class.  Limited to 10\, no observers.
URL:https://scovclayclub.com/event/bubble-pattern-glaze-class/
LOCATION:Glaze Studio
END:VEVENT
BEGIN:VEVENT
DTSTART;TZID=America/Phoenix:20260402T130000
DTEND;TZID=America/Phoenix:20260402T140000
DTSTAMP:20260423T163152
CREATED:20260123T205624Z
LAST-MODIFIED:20260123T205624Z
UID:1885-1775134800-1775138400@scovclayclub.com
SUMMARY:Monthly Clay Club Meeting
DESCRIPTION:Kiva Room
URL:https://scovclayclub.com/event/monthly-clay-club-meeting-7/
END:VEVENT
BEGIN:VEVENT
DTSTART;TZID=America/Phoenix:20260406T090000
DTEND;TZID=America/Phoenix:20260406T120000
DTSTAMP:20260423T163152
CREATED:20260228T013516Z
LAST-MODIFIED:20260228T013516Z
UID:1995-1775466000-1775476800@scovclayclub.com
SUMMARY:Clay Orientation Class
DESCRIPTION:First class for Clay Club Members.  Please sign up in the Clay Studio “Book of All Knowledge” workshop sign up sheet.
URL:https://scovclayclub.com/event/clay-orientation-class/
END:VEVENT
BEGIN:VEVENT
DTSTART;TZID=America/Phoenix:20260415T130000
DTEND;TZID=America/Phoenix:20260415T140000
DTSTAMP:20260423T163152
CREATED:20260123T205534Z
LAST-MODIFIED:20260123T205534Z
UID:1883-1776258000-1776261600@scovclayclub.com
SUMMARY:Monthly Cleaning & Social Hour
DESCRIPTION:Studio closed during cleaning
URL:https://scovclayclub.com/event/monthly-cleaning-social-hour-3/
END:VEVENT
BEGIN:VEVENT
DTSTART;TZID=America/Phoenix:20260427T123000
DTEND;TZID=America/Phoenix:20260427T153000
DTSTAMP:20260423T163152
CREATED:20260228T013659Z
LAST-MODIFIED:20260228T013659Z
UID:1997-1777293000-1777303800@scovclayclub.com
SUMMARY:Glaze Orientation
DESCRIPTION:Class #2 for new clay club members\, please sign up in Clay Studio in BOAK workshop sign up sheet.
URL:https://scovclayclub.com/event/glaze-orientation/
END:VEVENT
BEGIN:VEVENT
DTSTART;TZID=America/Phoenix:20260507T130000
DTEND;TZID=America/Phoenix:20260507T140000
DTSTAMP:20260423T163152
CREATED:20260123T205726Z
LAST-MODIFIED:20260123T205726Z
UID:1887-1778158800-1778162400@scovclayclub.com
SUMMARY:Monthly Clay Club Meeting
DESCRIPTION:Kiva Room
URL:https://scovclayclub.com/event/monthly-clay-club-meeting-8/
END:VEVENT
BEGIN:VEVENT
DTSTART;TZID=America/Phoenix:20260520T130000
DTEND;TZID=America/Phoenix:20260520T140000
DTSTAMP:20260423T163152
CREATED:20260123T205847Z
LAST-MODIFIED:20260123T205847Z
UID:1889-1779282000-1779285600@scovclayclub.com
SUMMARY:Monthly Cleaning & Social Hour
DESCRIPTION:Studio closed during cleaning
URL:https://scovclayclub.com/event/monthly-cleaning-social-hour-4/
END:VEVENT
BEGIN:VEVENT
DTSTART;TZID=America/Phoenix:20260623T090000
DTEND;TZID=America/Phoenix:20260623T140000
DTSTAMP:20260423T163152
CREATED:20260404T221026Z
LAST-MODIFIED:20260404T221026Z
UID:2026-1782205200-1782223200@scovclayclub.com
SUMMARY:Clay Orientation I
DESCRIPTION:Required Orientation class for all Clay Club members\, first of 2 classes. Studio is closed from 8:45 till class conclusion. 
URL:https://scovclayclub.com/event/clay-orientation-i/
LOCATION:Clay Studio
END:VEVENT
BEGIN:VEVENT
DTSTART;TZID=America/Phoenix:20260721T130000
DTEND;TZID=America/Phoenix:20260721T153000
DTSTAMP:20260423T163152
CREATED:20260404T221232Z
LAST-MODIFIED:20260404T221232Z
UID:2028-1784638800-1784647800@scovclayclub.com
SUMMARY:Glaze Orientation I
DESCRIPTION:2nd Required class for club members\, covering glaze techniques and our glaze studio.  Studio closed from 12:45 till class conclusion.
URL:https://scovclayclub.com/event/glaze-orientation-i/
LOCATION:Glaze Studio
END:VEVENT
END:VCALENDAR