BEGIN:VCALENDAR
VERSION:2.0
PRODID:-//SCOV Clay Club - ECPv6.15.17//NONSGML v1.0//EN
CALSCALE:GREGORIAN
METHOD:PUBLISH
X-WR-CALNAME:SCOV Clay Club
X-ORIGINAL-URL:https://scovclayclub.com
X-WR-CALDESC:Events for SCOV Clay Club
REFRESH-INTERVAL;VALUE=DURATION:PT1H
X-Robots-Tag:noindex
X-PUBLISHED-TTL:PT1H
BEGIN:VTIMEZONE
TZID:America/Phoenix
BEGIN:STANDARD
TZOFFSETFROM:-0700
TZOFFSETTO:-0700
TZNAME:MST
DTSTART:20250101T000000
END:STANDARD
END:VTIMEZONE
BEGIN:VEVENT
DTSTART;TZID=America/Phoenix:20260214T103000
DTEND;TZID=America/Phoenix:20260214T103000
DTSTAMP:20260423T164939
CREATED:20260203T174738Z
LAST-MODIFIED:20260203T174738Z
UID:1933-1771065000-1771065000@scovclayclub.com
SUMMARY:BY-LAWS meeting
DESCRIPTION:HOPI ROOM
URL:https://scovclayclub.com/event/by-laws-meeting/
END:VEVENT
BEGIN:VEVENT
DTSTART;TZID=America/Phoenix:20260209T090000
DTEND;TZID=America/Phoenix:20260209T120000
DTSTAMP:20260423T164939
CREATED:20260123T204919Z
LAST-MODIFIED:20260123T204919Z
UID:1875-1770627600-1770638400@scovclayclub.com
SUMMARY:Clay Orientation
DESCRIPTION:Studio closed from 8:45 for set up
URL:https://scovclayclub.com/event/clay-orientation-12/
END:VEVENT
BEGIN:VEVENT
DTSTART;TZID=America/Phoenix:20260205T130000
DTEND;TZID=America/Phoenix:20260205T140000
DTSTAMP:20260423T164939
CREATED:20260123T204205Z
LAST-MODIFIED:20260123T204205Z
UID:1869-1770296400-1770300000@scovclayclub.com
SUMMARY:Monthly Clay Club Meeting
DESCRIPTION:Kiva Room
URL:https://scovclayclub.com/event/monthly-clay-club-meeting-5/
END:VEVENT
BEGIN:VEVENT
DTSTART;TZID=America/Phoenix:20260203T090000
DTEND;TZID=America/Phoenix:20260203T120000
DTSTAMP:20260423T164939
CREATED:20260123T204820Z
LAST-MODIFIED:20260123T204820Z
UID:1873-1770109200-1770120000@scovclayclub.com
SUMMARY:Glaze Orientation
DESCRIPTION:Studio closed from 8:45 for set up
URL:https://scovclayclub.com/event/glaze-orientation-15/
END:VEVENT
BEGIN:VEVENT
DTSTART;TZID=America/Phoenix:20260129T090000
DTEND;TZID=America/Phoenix:20260129T100000
DTSTAMP:20260423T164939
CREATED:20260114T212218Z
LAST-MODIFIED:20260114T212218Z
UID:1849-1769677200-1769680800@scovclayclub.com
SUMMARY:Extruder Demonstration
DESCRIPTION:Workshop: Demonstration in Using the Extruder               \nRenee Baker and Mary Murck instructors \nClay Studio Closed 9:00am -10:00am
URL:https://scovclayclub.com/event/extruder-demonstration/
END:VEVENT
BEGIN:VEVENT
DTSTART;TZID=America/Phoenix:20260121T130000
DTEND;TZID=America/Phoenix:20260121T140000
DTSTAMP:20260423T164939
CREATED:20260107T192710Z
LAST-MODIFIED:20260107T192710Z
UID:1844-1769000400-1769004000@scovclayclub.com
SUMMARY:Studio cleaning
DESCRIPTION:Both studio closed
URL:https://scovclayclub.com/event/studio-cleaning-8/
END:VEVENT
BEGIN:VEVENT
DTSTART;TZID=America/Phoenix:20260108T130000
DTEND;TZID=America/Phoenix:20260108T140000
DTSTAMP:20260423T164939
CREATED:20260107T190520Z
LAST-MODIFIED:20260107T190520Z
UID:1840-1767877200-1767880800@scovclayclub.com
SUMMARY:Clay meeting
DESCRIPTION:Navajo room
URL:https://scovclayclub.com/event/clay-meeting/
END:VEVENT
BEGIN:VEVENT
DTSTART;TZID=America/Phoenix:20260105T090000
DTEND;TZID=America/Phoenix:20260105T120000
DTSTAMP:20260423T164939
CREATED:20260107T190242Z
LAST-MODIFIED:20260107T190242Z
UID:1838-1767603600-1767614400@scovclayclub.com
SUMMARY:Clay orientation
DESCRIPTION:Studio closed
URL:https://scovclayclub.com/event/clay-orientation-11/
END:VEVENT
END:VCALENDAR